BEGIN:VCALENDAR
VERSION:2.0
PRODID:-//Le Nocturne Chicago - Boutique Night Club - ECPv6.15.20//NONSGML v1.0//EN
CALSCALE:GREGORIAN
METHOD:PUBLISH
X-ORIGINAL-URL:https://nocturne-chicago.com
X-WR-CALDESC:Events for Le Nocturne Chicago - Boutique Night Club
REFRESH-INTERVAL;VALUE=DURATION:PT1H
X-Robots-Tag:noindex
X-PUBLISHED-TTL:PT1H
BEGIN:VTIMEZONE
TZID:America/Chicago
BEGIN:DAYLIGHT
TZOFFSETFROM:-0600
TZOFFSETTO:-0500
TZNAME:CDT
DTSTART:20190310T080000
END:DAYLIGHT
BEGIN:STANDARD
TZOFFSETFROM:-0500
TZOFFSETTO:-0600
TZNAME:CST
DTSTART:20191103T070000
END:STANDARD
BEGIN:DAYLIGHT
TZOFFSETFROM:-0600
TZOFFSETTO:-0500
TZNAME:CDT
DTSTART:20200308T080000
END:DAYLIGHT
BEGIN:STANDARD
TZOFFSETFROM:-0500
TZOFFSETTO:-0600
TZNAME:CST
DTSTART:20201101T070000
END:STANDARD
BEGIN:DAYLIGHT
TZOFFSETFROM:-0600
TZOFFSETTO:-0500
TZNAME:CDT
DTSTART:20210314T080000
END:DAYLIGHT
BEGIN:STANDARD
TZOFFSETFROM:-0500
TZOFFSETTO:-0600
TZNAME:CST
DTSTART:20211107T070000
END:STANDARD
END:VTIMEZONE
BEGIN:VTIMEZONE
TZID:UTC
BEGIN:STANDARD
TZOFFSETFROM:+0000
TZOFFSETTO:+0000
TZNAME:UTC
DTSTART:20190101T000000
END:STANDARD
END:VTIMEZONE
BEGIN:VEVENT
DTSTART;TZID=America/Chicago:20200419T190000
DTEND;TZID=America/Chicago:20200420T010000
DTSTAMP:20260420T105514
CREATED:20170616T150416Z
LAST-MODIFIED:20200307T004040Z
UID:318-1587322800-1587344400@nocturne-chicago.com
SUMMARY:AFRO • DISCO 9
DESCRIPTION:APRIL 19\, 2020\nSAVE THE DATE!\nTHE RETURN OF AFRO•DISCO \nRON CARROLL • VICK LAVENDER\nDUANE POWELL • CHUCK P\n& STEVE MAXWELL \nLouis Lazu • Jose Amaro • Tonka Toi • Jamahl Sumrell \nA #welove #wedance #welive Event
URL:https://nocturne-chicago.com/event/afro-disco-9/
LOCATION:Le Nocturne Chicago\, 4810 N BROADWAY\, New York\, IL 60640\, USA\, IL\, 60640\, United States
CATEGORIES:Upcoming
ATTACH;FMTTYPE=image/jpeg:https://nocturne-chicago.com/wp-content/uploads/2017/06/89345181_608261193067289_3975670141496066048_n.jpg
ORGANIZER;CN="Le Nocturne":MAILTO:rsvp@nocturnechicago.com
END:VEVENT
BEGIN:VEVENT
DTSTART;TZID=America/Chicago:20200404T220000
DTEND;TZID=America/Chicago:20200405T030000
DTSTAMP:20260420T105514
CREATED:20170616T151000Z
LAST-MODIFIED:20200309T201558Z
UID:320-1586037600-1586055600@nocturne-chicago.com
SUMMARY:Lit-U-Ation Saturday
DESCRIPTION:Join your hosts with the Most Rails Marketing Group Chicago\, David Dodd D SQUARE EVENTS and All Girls Chi Entertainment Group for the HOTTEST LGBTQ Saturday Night party in Chicago. \nLit-U-Ation All Star Weekend Gym Shoes & Jerseys\nSaturday March 7th\n4810 N Broadway\nChicago | Uptown | 10P-3A \nPower 92’s DJ Anton is Spinning them Beatz that will make you get outta your seatz \nGet your LIFE with VIP BOTTLE SERVICE! Bottles start @ $150! Email: D2ENT2014@GMAIL.COM for Details…. \nLET’S MAKE IT LITTY! See you in the building…. ALL are WELCOME \n| Rails Marketing Group | David Dood D SQUARE Events | All Girls Chi Presents \n🔥CHICAGO🔥CHICAGO🔥CHICAGO🔥 \n🔥SATURDAY FEBRUARY 15th 🔥\n🔥OUR NEW MONTHLY SATURDAY NIGHT🔥\n🔥NEW PARTY🔥NEW VENUE🔥NEW PARTY \nLIT-U-ATION SATURDAY\nSATURDAY APRIL 4 \nAt Le Nocturne\n4810 N. Broadway\nChicago | Uptown Chicago Is Back! | 10P-3A |\nPlenty of parking Available on Broadway \nPower 92’s DJ Anton Adult Blend of\nR&B Hip-Hop\, Pop\, House \nFree before 11:30p.m. \nCELEBRATE YOUR BIRTHDAY WITH US \nWE ARE BOOKING BOTTLE SERVICE TABLES AND SEATING \, BIRTHDAYS\, OR JUST A NIGHT OUT WITH FRIENDS! THE BEST BOTTLE PRICES IN THE CITY OF CHICAGO! BIRTHDAY PERSON AND 1 GUEST FREE WITH BOTTLE PURCHASE! \nBOOK AND HOLD YOUR SPACE NOW! FIRST COME FIRST SERVED RESERVE YOUR SPACE TONIGHT! \nEMAIL: RAILSCHI@AOL.COM \nJOIN OUR TEXT LIST FOR UP TO DATE INFO.\nTEXT RAILS TO 313131 \n#getLITUATED
URL:https://nocturne-chicago.com/event/lituation2/
LOCATION:Le Nocturne Chicago\, 4810 N BROADWAY\, New York\, IL 60640\, USA\, IL\, 60640\, United States
CATEGORIES:Upcoming
ATTACH;FMTTYPE=image/jpeg:https://nocturne-chicago.com/wp-content/uploads/2017/06/82929887_10157186007305863_6122485672973434880_n-2.jpg
ORGANIZER;CN="Le Nocturne":MAILTO:rsvp@nocturnechicago.com
END:VEVENT
BEGIN:VEVENT
DTSTART;TZID=America/Chicago:20200403T200000
DTEND;TZID=America/Chicago:20200404T020000
DTSTAMP:20260420T105514
CREATED:20170616T145906Z
LAST-MODIFIED:20200309T201733Z
UID:314-1585944000-1585965600@nocturne-chicago.com
SUMMARY:Flannel Friday
DESCRIPTION:  \nFriday\, April 5th\, Flannel Friday will keep our NEW LQQKS in 2020! \nThis month we are welcoming some awesome performers who will be dancing\, painting and getting painted! \nWe’ll have more surprise announcements coming up\, so stay tuned and RSVP now to keep the party going all night at Le Nocturne nightclub in Uptown. Come out and party with the most fun-loving\, hype DJs we know! \nLezBe is excited to bring you a bigger\, better Flannel Friday along with A Queer Pride Chicago! Join our VIP list to be the first to know about all our new entertainment and get special deals. Just text FLANNEL to 91944. \nWant a FREE TICKET? RSVP at Do312 for free cover before 11 pm. The link is in the “Get Tickets” link above! \nThis event celebrates queer women and femme identities but LezBe encourages all friends\, family\, and allies to enjoy our safe\, inclusive environment
URL:https://nocturne-chicago.com/event/flannel-friday/
LOCATION:Le Nocturne Chicago\, 4810 N BROADWAY\, New York\, IL 60640\, USA\, IL\, 60640\, United States
CATEGORIES:Upcoming
ATTACH;FMTTYPE=image/png:https://nocturne-chicago.com/wp-content/uploads/2017/06/88434906_2494635144186986_8551270175414943744_o.png
ORGANIZER;CN="Le Nocturne":MAILTO:rsvp@nocturnechicago.com
END:VEVENT
BEGIN:VEVENT
DTSTART;TZID=America/Chicago:20200328T220000
DTEND;TZID=America/Chicago:20200329T030000
DTSTAMP:20260420T105514
CREATED:20170616T151834Z
LAST-MODIFIED:20200221T204716Z
UID:329-1585432800-1585450800@nocturne-chicago.com
SUMMARY:SHFFT with Garrett David / Ilana Ariella / Shmoo
DESCRIPTION:https://www.residentadvisor.net/events/1387141\nhttps://www.eventbrite.com/e/shfft-with-garrett-david-ilana-ariella-shmoo-tickets-93358131685 \nSaturday\, March 28th \nilana ariella\nShmoo\nand WYSER \npresent: \nSHFFT \nwith guest Garrett David \n10pm / 21+\n$5 / free before 11:30pm \nLe Nocturne Chicago\n4810 N Broadway \nhttps://soundcloud.com/garrettdavid\nhttps://www.residentadvisor.net/dj/ilanaariella\nhttps://www.residentadvisor.net/dj/shmoo\nhttps://soundcloud.com/wyser
URL:https://nocturne-chicago.com/event/elements-saturday/
LOCATION:Le Nocturne Chicago\, 4810 N BROADWAY\, New York\, IL 60640\, USA\, IL\, 60640\, United States
CATEGORIES:Upcoming
ATTACH;FMTTYPE=image/jpeg:https://nocturne-chicago.com/wp-content/uploads/2017/06/https-cdn.evbuc_.com-images-91560165-102038737017-1-original.20200208-221909.jpeg
ORGANIZER;CN="Le Nocturne":MAILTO:rsvp@nocturnechicago.com
END:VEVENT
BEGIN:VEVENT
DTSTART;TZID=America/Chicago:20200327T210000
DTEND;TZID=America/Chicago:20200328T020000
DTSTAMP:20260420T105514
CREATED:20170616T151956Z
LAST-MODIFIED:20200309T202507Z
UID:333-1585342800-1585360800@nocturne-chicago.com
SUMMARY:Chicago Make Out Party
DESCRIPTION:https://nocturne-chicago.com/wp-content/uploads/2020/02/getfvid_83544823_626647291435591_5364234249408872448_n.mp4\nTired of standing around looking pensive but warm\, fierce but approachable\, and yet that mega crush of yours still hasn’t come up to you? All you gotta do is go up and be all like- “hey\, wanna make out with me for a photo? you get a free shot” and they go “um yes duh” and then the rest is drunk history. [PS\, Making out is for everyone\, and everyone is welcome\, the juice does not discriminate]. It’s the party that asks the question- “Who’s in my mouth!?” \n  \nPhotobooth by Nark Magazine / Colectivo Multipolar\nFree shots in the booth! booze and photographic ones!\n‘\nFRIDAY 3/27\nLE NOCTURNE\n4810 N. BROADWAY\n9pm-2am\n10pm Drag ShowClothes Check Available! \n$1 to check coats\, bags or clothes (bag check is required)\nWe will also have complementary nipple tape at coat check for anyone in need. \nAccessibility Info:\nLe Nocturne is all on one level and accessible on wheelchairs\, except for the raised bottle service area.
URL:https://nocturne-chicago.com/event/makeup/
LOCATION:Le Nocturne Chicago\, 4810 N BROADWAY\, New York\, IL 60640\, USA\, IL\, 60640\, United States
CATEGORIES:Upcoming
ATTACH;FMTTYPE=image/png:https://nocturne-chicago.com/wp-content/uploads/2017/06/makeoutparty.png
ORGANIZER;CN="Le Nocturne":MAILTO:rsvp@nocturnechicago.com
END:VEVENT
BEGIN:VEVENT
DTSTART;TZID=America/Chicago:20200326T230000
DTEND;TZID=America/Chicago:20200327T020000
DTSTAMP:20260420T105514
CREATED:20170616T151447Z
LAST-MODIFIED:20200309T202733Z
UID:322-1585263600-1585274400@nocturne-chicago.com
SUMMARY:HEAT by Ron Carroll - every Thursday
DESCRIPTION:  \nMORE TBA \nCome free your Mind\, Body & Soul. \nHosted by\nLouis Lazu • Jose Amaro\nJamahl Sumrell & Darrell Hill \n 
URL:https://nocturne-chicago.com/event/heat3/
LOCATION:Le Nocturne Chicago\, 4810 N BROADWAY\, New York\, IL 60640\, USA\, IL\, 60640\, United States
CATEGORIES:Upcoming
ATTACH;FMTTYPE=image/jpeg:https://nocturne-chicago.com/wp-content/uploads/2017/06/m13-flyer-heat.jpg
ORGANIZER;CN="Le Nocturne":MAILTO:rsvp@nocturnechicago.com
END:VEVENT
BEGIN:VEVENT
DTSTART;TZID=America/Chicago:20200321T210000
DTEND;TZID=America/Chicago:20200322T030000
DTSTAMP:20260420T105514
CREATED:20170616T151754Z
LAST-MODIFIED:20200221T204737Z
UID:327-1584824400-1584846000@nocturne-chicago.com
SUMMARY:The Haus Of Love w The Chosen Few DJ's! House Music.
DESCRIPTION:Saturday\, March 21st\, 2020 \nI Love House Music Chicago\, Allay Soul & The Malafaktory Present: \nThe Haus of Love with the legendary house music icons The Chosen Few Dj’s! Wayne Williams x Mike Dunn x Alan King and Andre Hatchett at Le Nocturne Sat. March 21st! 9p-3am \nThis event will sell out quickly\, get your tickets here https://www.eventbrite.com/e/the-haus-of-love-with-the-chosen-few-djs-house-music-tickets-94519948711 \nWayne Williams \nMike Dunn \nAlan King \nAndre Hatchett \n—————————– \nLe Nocturne \n4810 N. Broadway \nChicago\, IL 60640 \n9p-3am \nFollow us on Eventbrite to be the first to know when tickets go on sale as well as discounted tickets https://www.eventbrite.com/o/i-love-house-music-chicago-16575466715 \n \nFollow us on facebook\nhttps://www.facebook.com/ilovehousemusicchicago/
URL:https://nocturne-chicago.com/event/loveofhouse/
LOCATION:Le Nocturne Chicago\, 4810 N BROADWAY\, New York\, IL 60640\, USA\, IL\, 60640\, United States
CATEGORIES:Upcoming
ATTACH;FMTTYPE=image/jpeg:https://nocturne-chicago.com/wp-content/uploads/2017/06/HausOfLove_Square.jpg
ORGANIZER;CN="Le Nocturne":MAILTO:rsvp@nocturnechicago.com
END:VEVENT
BEGIN:VEVENT
DTSTART;TZID=America/Chicago:20200320T210000
DTEND;TZID=America/Chicago:20200321T020000
DTSTAMP:20260420T105514
CREATED:20170616T145417Z
LAST-MODIFIED:20200307T004354Z
UID:296-1584738000-1584756000@nocturne-chicago.com
SUMMARY:Grizzly w/ Chomper + Milty Evans
DESCRIPTION:The Organized Grime Crew + #CHUNKHOUSE are teaming up to bring you #GRIZZLY\, Chicago’s premier\, monthly dance-party celebrating #FUR and fur-lovers ♥!!! \nSound by:\nDJ Chomper – (Milwaukee)\nMilty Evans – (DILF – Fukr Resident DJ) \nHosted by: Organized Grime Crew \n***Third Friday of every month… with the best in local & International guest DJs*** \n-Grizzly GoGo’s\n-World-Class Sound System & Lights (25\,000 Watts)\n-New Uptown Location \n*FREE before 10PM\, with RSVP on Do312 ticket link above \nFueled by STOLEN Spirits + Deep Eddy Vodka \nBougie Bear Bottle Service available. Contact hosts for details. 🐻 \nCOATCHECK – $1\nClothes Check – Free\n(coat/bag check is mandatory for everyone’s safety) \n***People of any color\, size\, body type\, gender\, gender expression(s)\, and sexual orientation are welcome.\nBIGOTRY WILL NOT BE TOLERATED.
URL:https://nocturne-chicago.com/event/grizzly/
LOCATION:Le Nocturne Chicago\, 4810 N BROADWAY\, New York\, IL 60640\, USA\, IL\, 60640\, United States
CATEGORIES:Upcoming
ATTACH;FMTTYPE=image/png:https://nocturne-chicago.com/wp-content/uploads/2017/06/image.png
ORGANIZER;CN="Le Nocturne":MAILTO:rsvp@nocturnechicago.com
END:VEVENT
BEGIN:VEVENT
DTSTART;TZID=UTC:20200319T220000
DTEND;TZID=UTC:20200320T020000
DTSTAMP:20260420T105514
CREATED:20170616T145538Z
LAST-MODIFIED:20200309T202807Z
UID:308-1584655200-1584669600@nocturne-chicago.com
SUMMARY:HEAT by Ron Carroll - every Thursday
DESCRIPTION:
URL:https://nocturne-chicago.com/event/heat/
LOCATION:Le Nocturne Chicago\, 4810 N BROADWAY\, New York\, IL 60640\, USA\, IL\, 60640\, United States
CATEGORIES:Upcoming
ATTACH;FMTTYPE=image/jpeg:https://nocturne-chicago.com/wp-content/uploads/2017/06/20200129_200651_0000.jpg
ORGANIZER;CN="Le Nocturne":MAILTO:rsvp@nocturnechicago.com
END:VEVENT
BEGIN:VEVENT
DTSTART;TZID=America/Chicago:20200314T210000
DTEND;TZID=America/Chicago:20200315T150000
DTSTAMP:20260420T105514
CREATED:20170616T145826Z
LAST-MODIFIED:20200309T201359Z
UID:312-1584219600-1584284400@nocturne-chicago.com
SUMMARY:PAUL JOHNSON support by SAM WHITE & MARTIN STOY
DESCRIPTION:Paul Johnson at Le Nocturne Chicago\n\n\n——–\n\n\nNO COVER WITH RSVP\n\n\n——–\n\n\n \n\n\nPaul Johnson is often copied but has never have been equaled\, because Paul Johnson is …well…he is PAUL JOHNSON. There is reason for him to be named as the very first artist in the track “Teachers” by Daft Punk.\n\n\nhttps://www.youtube.com/watch?v=6jntFhnvugg\n\n\n \n\n\n———————–\n\n\nMonthly residency – Every 2nd Saturday\n\n\n———————–\n\n\nSPECIAL GUEST\n\n\n* Sam White\n\n\n* Martin Stoy\n\n\n———————–\n\n\nHosted by Whats Good Chicago\n\n\nSupport by The Chicago House Music App\n\n\nNo Cover with RSVP\n\n\n \n\n\n \n\n\nhttps://www.evolcollective.com/
URL:https://nocturne-chicago.com/event/pj-march/
LOCATION:Le Nocturne Chicago\, 4810 N BROADWAY\, New York\, IL 60640\, USA\, IL\, 60640\, United States
CATEGORIES:This week events,Upcoming
ATTACH;FMTTYPE=image/png:https://nocturne-chicago.com/wp-content/uploads/2017/06/SQUARE-PJ-MARCH-st-patricks.png
ORGANIZER;CN="Le Nocturne":MAILTO:rsvp@nocturnechicago.com
END:VEVENT
BEGIN:VEVENT
DTSTART;TZID=America/Chicago:20200313T210000
DTEND;TZID=America/Chicago:20200314T020000
DTSTAMP:20260420T105514
CREATED:20170616T150247Z
LAST-MODIFIED:20200309T201421Z
UID:316-1584133200-1584151200@nocturne-chicago.com
SUMMARY:Housepit Chi | Friday the 13th
DESCRIPTION:———————————————————-\nHousepit CHI | 3.13.20 | Le Nocturne Chicago\n———————————————————- \nHousepit CHI returns for a 1 off event to bang out one of the best sound systems in the city at Le Nocturne Chicago! This 21+\, north side powerhouse is designed around a massive KV2 Audio installation. A perfect jump-off as Housepit CHI grows into a record label. \nOver the past 7 months\, we’ve been hyper focused on the curation of various artist eps across 5\, 12″ releases due out in 2020 (including such locals as Hush Hush\, Garrett David\, Secret Studio\, Ruby & The Fitz\, Change Request\, Chrissy Shively\, Bai-ee\, Grey People\, Deepsmith\, and a very special 4 tracker by Brad Miner). \nWe’re excited to get back to basics\, hosting this event and working with venues that share our passion for House culture. Our mission to prioritize safe places and curate creative environments that put focus on artists across multiple mediums (not just the Dj)\, continues. \nWe’ll be welcoming the artistry of 3 amazing selectors TBA on MONDAY\, alongside a confirmed cast of vendor OGs. Hosts Bai-ee\, Kerri Lyn\, Striz and Duke Shin will be on vibe patrol. \nNO COVER\nLocation: 4810 N N Broadway\n21+ | More info @ bai-ee.com \nwww.kv2audio.com
URL:https://nocturne-chicago.com/event/universiteit-van-music/
LOCATION:Le Nocturne Chicago\, 4810 N BROADWAY\, New York\, IL 60640\, USA\, IL\, 60640\, United States
CATEGORIES:This week events,Upcoming
ATTACH;FMTTYPE=image/jpeg:https://nocturne-chicago.com/wp-content/uploads/2017/06/IMG_1850-scaled.jpg
ORGANIZER;CN="Le Nocturne":MAILTO:rsvp@nocturnechicago.com
END:VEVENT
BEGIN:VEVENT
DTSTART;TZID=America/Chicago:20200312T220000
DTEND;TZID=America/Chicago:20200313T020000
DTSTAMP:20260420T105514
CREATED:20170616T145634Z
LAST-MODIFIED:20200309T201501Z
UID:310-1584050400-1584064800@nocturne-chicago.com
SUMMARY:HEAT with FARLEY JACKMASTER FUNK & Ron Carroll
DESCRIPTION:Come for a night of classic tunes from chicago’s hottest radio era of Wbmx. \nFarley Jackmaster Funk\n& Ron Carroll \nRock out the tunes from 1980’s & 1990’s….. \nDON’T MISS THIS GOOD TIME!!! \nHEAT presents Love Fest\nA weekly get together of spirits who to Dance & let go!! \nNo Race\nNo Genders\nNo Bias\nJUST FREE \nHosted by\nLouis Lazu\, Jose Amaro\,\nJamahl Sumrell & Darrell Hill \nresident: Ron Carroll
URL:https://nocturne-chicago.com/event/heat2/
LOCATION:Le Nocturne Chicago\, 4810 N BROADWAY\, New York\, IL 60640\, USA\, IL\, 60640\, United States
CATEGORIES:This week events,Upcoming
ATTACH;FMTTYPE=image/jpeg:https://nocturne-chicago.com/wp-content/uploads/2017/06/m13-flyer-heat.jpg
ORGANIZER;CN="Le Nocturne":MAILTO:rsvp@nocturnechicago.com
END:VEVENT
END:VCALENDAR